BEGIN:VCALENDAR
VERSION:2.0
METHOD:PUBLISH
BEGIN:VEVENT
UID:WILD_APRICOT_EVENT_920978_SESSION_1
DTSTART:20140810T233000Z
DTEND:20140811T060000Z
SUMMARY:AC Design Technologies - Developing Performance Expectations and Indicators
LOCATION:Professional Learning Space - Kilmara Conference Centre
DESCRIPTION:https://registrationcentre.cesa.catholic.edu.au/event-920978\n\n\nAC Design Technologies - Developing Performance Expectations and Indicators\n  Cancelled due to limited registration numbers.\n  COURSE DESCRIPTION Teachers will work collaboratively in the morning to develop to develop Performance Expectations and Indicators for the Australian Curriculum Technologies. This will be modeled on the previous exemplars in English\, History\, Mathematics and Science published on CESA Online.\n  Teachers will use these exemplars to develop a unit of work that aligns with the performance indicators.\n  Participants in this session will be encouraged to share any materials developed under a Creative Commons Attribution-NonCommercial-ShareAlike 3.0 Australia (CC BY NC SA). Content developed may be published on CESA Online.\n  CORE FOCI AND PRIORITIES\nImplementation of AC Technologies.\n  AITSL AUSTRALIAN PROFESSIONAL STANDARDS FOR TEACHERS INCLUDE\nStandard 3:  Plan for and implement effective teaching and learning\nStandard 6: Engage in professional learning\n  INTENDED FOR: Teachers who have previously been engaged with AC Technologies Curriculum in CESA Workshops.\n  PROGRAM OUTLINE\n  One day\n  Total hours: 7.5\n     TRT will be provided - with a limit two teachers from any one school. Places are limited\, and the contribution by participants in the registration may be used to assist the selection process. \n  Morning tea and lunch are provided on the day.\n  FACILITATOR\nLarry Spry [UNI SA] and the Curriculum Support Team - CESA\n  SYSTEM ACCREDITED MODULE: NO\n  CONTACT DETAILS\nCurriculum Support Team anne.denicolo@cesa.catholic.edu.au\n  Registration enquiries ada.mercurio@cesa.catholic.edu.au \n    Approved Participants will receive 1.0 TRT and this will be paid on receipt of Tax Invoice from your school.\n Please email the invoice to ada.mercurio@cesa.catholic.edu.au  with the following details:  Teacher/s name:\n Session: AC Design Technologies - Performance Expectations and Indicators\n Date: 11th August 2014\n
DTSTAMP:20260424T155916Z
END:VEVENT
END:VCALENDAR
