BEGIN:VCALENDAR
VERSION:2.0
METHOD:PUBLISH
BEGIN:VEVENT
UID:WILD_APRICOT_EVENT_889457_SESSION_1
DTSTART:20140520T233000Z
DTEND:20140521T060000Z
SUMMARY:Australian Curriculum:F-10 Professional Network Day
LOCATION:Adelaide Sailing Club\, Barcoo Rd\, West Beach
DESCRIPTION:https://registrationcentre.cesa.catholic.edu.au/event-889457\n\nAustralian Curriculum: F-10 Professional Network Day\n  REGISTRATION CLOSED\n     COURSE DESCRIPTION \n  This workshop is designed to support school and curriculum leaders in the implementation of the Australian Curriculum: F-10\n  COURSE INFORMATION\n  Date: Wednesday\, May 21st 2014\n Venue: Adelaide Sailing Club\, Barcoo Road\, West Beach\n  Bring your own device\, Morning tea and Lunch will be provided\n  CORE FOCI AND PRIORITIES\n      * Opportunities for the development of networks across schools as well as a chance to discuss progress\, next steps and innovative ideas in relation to the implementation of the Australian Curriculum: F-10\n\n\n        * An opportunity to become familiar with the DECD Leading Learning website "Making the Australian Curriculum Work for us". This site contain tools and resources for leading professional learning with staff http://www.acleadersresource.sa.edu.au/\n\n  AITSL AUSTRALIAN PROFESSIONAL STANDARDS FOR TEACHERS INCLUDE\n  2.3 Curriculum\, assessment and reporting\n  3.2 Plan\, structure and sequence learning programs\n  6.4 Apply professional learning and improve student learning\n  INTENDED FOR:\n  School and curriculum leaders with a responsibility for implementation of the Australian Curriculum: F-10\n  PROGRAM OUTLINE:\n  1 day 9am - 3.30pm\n  FACILITATOR\nFor further program information on this professional learning opportunity please contact:\n  Marianne Farrugia\, CESA Australian Curriculum Consultant\n Marianne.farrugia@cesa.catholic.edu.au or 8301 6147\n  SYSTEM ACCREDITED MODULE: No\n \n REGISTRATION CLOSED: Wednesday\, 14 May 2014 4.00pm\n  REGISTRATION\n  Ria Wong\n Catholic Education Office\n ria.wong@cesa.catholic.edu.au or 8301 6618\n \n\n
DTSTAMP:20260424T155610Z
END:VEVENT
END:VCALENDAR
