BEGIN:VCALENDAR
VERSION:2.0
METHOD:PUBLISH
BEGIN:VEVENT
UID:WILD_APRICOT_EVENT_884325_SESSION_1
DTSTART:20140730T233000Z
DTEND:20140731T063000Z
SUMMARY:EAL - How Language Works: Success in Literacy and Learning 2014 - CANCELLED
LOCATION:Catholic Education Conference Centre\, 116 George Street\, Thebarton
DESCRIPTION:https://registrationcentre.cesa.catholic.edu.au/event-884325\n\nEAL\n \nHow Language Works: Success in Literacy and Learning\n CANCELLED\n  Last Day to Register: Friday 18 July 2014\n    COURSE DESCRIPTION\n This comprehensive 10 module course provides detailed insights into the language model which underpins the Australian English curriculum - Language strand\, the Language and Literacy Levels EALD Students\; and the language and literacy demands of the SACE. This course will also provide deep knowledge for teachers who wish to make the most of the CESA publication Composing Written Texts across the Australian Curriculum F-6. \n  COURSE INFORMATION\n           2 full days plus  6 sessions  2.00pm - 5.00pm\n  2014 Schedule\n  Location:     Catholic Education Conference Centre\n                          116 George Street\, Thebarton\n                      \n A maximum of 18 participants\n  CORE FOCI AND PRIORITIES\nACARA Student diversity English as an Additional Language students\n \nAITSL NATIONAL PROFESSIONAL STANDARDS FOR TEACHERS INCLUDE:\n Standard 2 - Know the content and how to teach it\n      2.5 Literacy and numeracy strategies\n Standard 3 - Plan for and implement effective teaching and learning\n       3.2 Plan\, structure and sequence learning programs\n       3.3 use teaching strategies\n       3.6 Evaluate and improve teaching programs\n Standard 6 - Engage in professional learning\n       6.2 Engage in professional learning and improve practice\n       6.3 Engage with colleagues and improve practice\n \nIntended for:\n      * Relevant for all teachers\n\n        * Makes explicit for teachers the patterns of language used in the subject areas\n\n        * Gives students the tools to be more accurate and effective users of language in a range of contexts\n\n        * Has the potential to make all students more effective and efficient learners\n\n  PROGRAM OUTLINE:\nParticipants are provided with course books and DVD outlining workshop notes\, readings\, resources and school or classroom activities.\n\n Click here for the Outline of How Language Works.\n \n Certificate: On completion of the course\, participants will be issued with a certificate indicating modules attended\, activities and readings completed.\n Accreditation: Accreditation for tertiary studies may be available on full completion of this course.\n  Cost:\n $265 per teacher (if paid by school)\n $265 Plus $26.50 GST (if paid by teacher)\n  Catering: refreshments are provided\n  Parking is not available on site. Please refer to the attached link.\n Catholic Education Conference Centre\n  FACILITATOR:\n Bev White - EAL Consultant\n\n For Further Information regarding registration:\nChris Virgin\n chris.virgin@cesa.catholic.edu.au\n 8301 6851\n
DTSTAMP:20260424T160155Z
END:VEVENT
END:VCALENDAR
