BEGIN:VCALENDAR
VERSION:2.0
METHOD:PUBLISH
BEGIN:VEVENT
UID:WILD_APRICOT_EVENT_854786_SESSION_1
DTSTART:20140303T033000Z
DTEND:20140303T053000Z
SUMMARY:Scootle for School Managers and Curriculum Coordinators
LOCATION:Professional Learning Space - Kilmara Conference Centre
DESCRIPTION:https://registrationcentre.cesa.catholic.edu.au/event-854786\n\n\nScootle for School Managers and Curriculum Coordinators\n  COURSE DESCRIPTION\nThis session will support Scootle School Managers in their role to build teacher capacity in using the diverse range of digital resources accessible through Scootle.\n  COURSE INFORMATION\nParticipants will increase their awareness of the range of resources in the Scootle ecosystem - Improve\, Scootle Community and the Languages Learning Space: Chinese.\n  Participants will become familiar with the Australian Curriculum content descriptions and elaborations level in Scootle and related digital resources.\n  Participants will review resource usage at their school\, and use this as a guide to plan to enhance teacher awareness and curriculum integration of digital curriculum resources.\n                            Session\n                        Session Date\n                        Session Time\n                        Venue\n                                  Scootle for School Managers  & Curriculum Coordinators\n                         Monday 3rd March\n                        2.00 – 4.00\n                        Catholic Education Office\n          Professional Learning Space\n          112 Kintore Street Thebarton\n                    CORE FOCI AND PRIORITIES\n  Scootle and Improve\n  AITSL AUSTRALIAN PROFESSIONAL STANDARDS FOR TEACHERS INCLUDE\nStandard 2: Know the content and how to teach it (2.6)\n  Standard 3:       Plan for and implement effective teaching and learning (3.4)\n  INTENDED FOR: Scootle School Managers and Curriculum Coordinators\n  PROGRAM OUTLINE\n   \n  FACILITATOR:\nCurriculum Support Team\n  SYSTEM ACCREDITED MODULE:  NO\n  CONTACT DETAILS\n  Curriculum Support Team Contact\n  Anne De Nicolo anne.denicolo@cesa.catholic.edu.au\n  Registration Inquiries\n  Ada Mercurio ada.mercurio@cesa.catholic.edu.au\n  Please register online at CESA Registration Centre: http://registrationcentre.cesa.catholic.edu.au/digitaltechnologies\n  or\n  All contact details and further program information on this professional learning opportunity can be found at the following link Professional Learning Booklet.\n\n
DTSTAMP:20260424T155901Z
END:VEVENT
END:VCALENDAR
