BEGIN:VCALENDAR
VERSION:2.0
METHOD:PUBLISH
BEGIN:VEVENT
UID:WILD_APRICOT_EVENT_805360_SESSION_1
DTSTART:20140303T050000Z
DTEND:20140303T063000Z
SUMMARY:Scootle Community
LOCATION:Professional Learning Space - Kilmara Conference Centre
DESCRIPTION:https://registrationcentre.cesa.catholic.edu.au/event-805360\n\n\nScootle Community\nSession time and content revised to Scootle for School Managers and Curriculum Coordinators  on same day\n  COURSE DESCRIPTION\nParticipants will browse the Australian Curriculum at the content descriptions and elaborations level and match digital resources in their learning area.\n COURSE INFORMATION\nParticipants will use Improve to access numeracy\, literacy and science test items that are digitally linked to relevant Scootle curriculum and learning resources. Participants will explore using Improve to capture evidence of students' achievements and to analyse the data to inform programs for classes and for individuals.\n                          Session\n                        Session Date\n                        Session Time\n                        Max 15\n                                  Scootle and Improve\n                         3rd March\n                        3.30 – 4500\n                        15\n                  CORE FOCI AND PRIORITIES\n   Scootle and Digital Curriculum Content\n  AITSL AUSTRALIAN PROFESSIONAL STANDARDS FOR TEACHERS INCLUDE\nStandard 7: Engage professionally with colleagues\, parents/carers and the community (7.4)\n  INTENDED FOR:\nR-12 Classroom Teachers  who are registered Scootle users - from any learning area who wish join the Scootle Community or develop their own Scootle Community to communicate with peers.\n \n PROGRAM OUTLINE\nParticipants will be encouraged to connect with peers\, and to contribute teacher generated content using Scootle Community.\n  FACILITATOR\nCurriculum Support Team\n  SYSTEM ACCREDITED MODULE:  NO\n  CONTACT DETAILS\n  Curriculum Support Team Contact\n  Anne De Nicolo anne.denicolo@cesa.catholic.edu.au\n  Registration Inquiries\n  Ada Mercurio ada.mercuirio@cesa.catholic.edu.au\n  Please register online at CESA Registration Centre: http://registrationcentre.cesa.catholic.edu.au/digitaltechnologies\n  or\n  All contact details and further program information on this professional learning opportunity can be found at the following link Professional Learning Booklet.\n\n
DTSTAMP:20260424T160700Z
END:VEVENT
END:VCALENDAR
