BEGIN:VCALENDAR
VERSION:2.0
METHOD:PUBLISH
BEGIN:VEVENT
UID:WILD_APRICOT_EVENT_805357_SESSION_1
DTSTART:20140227T050000Z
DTEND:20140227T063000Z
SUMMARY:Scootle and Improve - 27th February
LOCATION:Professional Learning Space - Kilmara Conference Centre
DESCRIPTION:https://registrationcentre.cesa.catholic.edu.au/event-805357\n\n\nScootle and Improve - 27th February\n  \nSession Cancelled - insufficient registrations.\n  COURSE DESCRIPTION\nParticipants will browse the Australian Curriculum at the content descriptions and elaborations level and match digital resources in their learning area.\n COURSE INFORMATION\nParticipants will use Improve to access numeracy\, literacy and science test items that are digitally linked to relevant Scootle curriculum and learning resources. Participants will explore using Improve to capture evidence of students' achievements and to analyse the data to inform programs for classes and for individuals.\n                          Session\n                        Session Date\n                        Session Time\n                        Max 19\n                                  Scootle and Improve\n                         27th February\n                        3.30 – 5.00\n                        19\n                  CORE FOCI AND PRIORITIES\n   Scootle and Digital Curriculum Content\n  AITSL AUSTRALIAN PROFESSIONAL STANDARDS FOR TEACHERS INCLUDE\nStandard 2:       Know the content and how to teach it (2.6)\n    INTENDED FOR:\nRegistered Scootle users - R-12 Classroom Teachers from any learning area\, Early Career Teachers inquiring into the integration of digital curriculum content\n  PROGRAM OUTLINE\nParticipants will be encouraged to add value to Scootle or Improve by contributing teacher generated content.\n  FACILITATOR\nCurriculum Support Team\n  SYSTEM ACCREDITED MODULE:  NO\n  CONTACT DETAILS\n  Curriculum Support Team Contact\n  Anne De Nicolo anne.denicolo@cesa.catholic.edu.au\n  Registration Inquiries\n  Ada Mercurio ada.mercurio@cesa.catholic.edu.au\n  Please register online at CESA Registration Centre: http://registrationcentre.cesa.catholic.edu.au/digitaltechnologies\n  or\n  All contact details and further program information on this professional learning opportunity can be found at the following link Professional Learning Booklet.\n\n
DTSTAMP:20260424T153718Z
END:VEVENT
END:VCALENDAR
