BEGIN:VCALENDAR
VERSION:2.0
METHOD:PUBLISH
BEGIN:VEVENT
UID:WILD_APRICOT_EVENT_799882_SESSION_1
DTSTART:20140618T233000Z
DTEND:20140619T073000Z
SUMMARY:21st Century Learning Project - Primary
LOCATION:Professional Learning Space - Kilmara Conference Centre
DESCRIPTION:https://registrationcentre.cesa.catholic.edu.au/event-799882\n\n\n21st Century Learning Project - Primary\n  Session booked out - spaces still available in the session for both Primary and Secondary schools.\n  http://registrationcentre.cesa.catholic.edu.au/digitaltechnologies?eventId=804057&EventViewMode=EventDetails\n  Note session dates have been changed.\n  Over three days teachers will work together with others in a collaborative and supportive environment to understand:\n  ·         The global research that proves the success of 21st Century Learning Design and how to create a compelling case for implementing it in your school\n  ·         How 21st Century Learning Design links in with the Australian National Curriculum\n  ·         The six skill-sets today’s students will need in the workplace and their future lives\n  ·         The innovative rubrics for measuring use of these skills in classroom and project work.\n  A summary statement in relation to the applicant's justification and commitment to undertaking the course will be required to be submitted on registration. There will only be 20 successful applicants for this course.\n  COURSE DESCRIPTION\n  Teachers will also learn how to code and redesign their curriculum\, to get started on implementing 21st Century Learning Design on their return to school. Participants will have the opportunity to share their successes and discuss overcoming any roadblocks they may have encountered at a final session.\n  COURSE INFORMATION\n                          Session\n                        Session Date\n                        Session Time\n                        Venue\n                                  Session 1\n                        Thursday 19thJune\n                        9am – 5pm\n                        Catholic Education Office\n          Professional Learning Space\n          112 Kintore Street\n         Thebarton\n                                  Session 2\n                        Thursday 31st July\n                        9am – 5pm\n                                  Session 3\n                        Monday 8th September\n                        9am – 5pm\n                  CORE FOCI AND PRIORITIES\n      * 21st Century skills\, Australia Curriculum\, General Capabilities ICT\n\n  AITSL AUSTRALIAN PROFESSIONAL STANDARDS FOR TEACHERS INCLUDE\n  Standard 2:       Know the content and how to teach it (2.6)\n  Standard 3:       Plan for and implement effective teaching and learning (3.4)\n  INTENDED FOR:\nClassroom Teachers who are passionate in utilizing ICTs to improve student learning outcomes. Representatives of schools who are or are intending to implement iScholaris or Office 365 in 2014 are encouraged to apply.\n  PROGRAM OUTLINE\n      * Three full days\n\n        * Total hours: 22.5 hours\n\n  FACILITATOR\nExpanding Learning Horizons and Curriculum Support Team - CESA\n  SYSTEM ACCREDITED MODULE: NO\n  CONTACT DETAILS\nCurriculum Support Team\n  Tom Melingakos tom.melingakos@cesa.catholic.edu.au\n  Registration enquiries ada.mercurio@cesa.catholic.edu.au \n  All contact details and further program information on this professional learning opportunity can be found at the following link: Professional Learning Booklet .\n  \n  Parking details:\n  http://registrationcentre.cesa.catholic.edu.au/learningspace\n
DTSTAMP:20260424T155619Z
END:VEVENT
END:VCALENDAR
