BEGIN:VCALENDAR
VERSION:2.0
METHOD:PUBLISH
BEGIN:VEVENT
UID:WILD_APRICOT_EVENT_798680_SESSION_1
DTSTART:20140318T023000Z
DTEND:20140506T060000Z
SUMMARY:TECHNOLOGIES - Digital Technologies Workshop
LOCATION:Professional Learning Space - Kilmara Conference Centre
DESCRIPTION:https://registrationcentre.cesa.catholic.edu.au/event-798680\n\n\nTechnologies - Digital Technologies Workshop\n  In Digital Technologies students use computational thinking and information systems to define\, design and implement digital solutions.\n  COURSE DESCRIPTION\n  Workshop participants will work to develop learning opportunities that integrate Digital Technologies from the Australian Curriculum. Participants will plan using the overarching ideas from the curriculum – and map these using the indicative times provided to writers.\n  COURSE INFORMATION\n                          Session\n                        Session Date\n                        Session Time\n                                  Session 1\n                        18th March\n                        1.00 – 3.30\n                                  Session 2\n                        6th May\n                        1.00 – 3.30\n                   CORE FOCI AND PRIORITIES\n      * Australia Curriculum - Technologies\n\n  AITSL AUSTRALIAN PROFESSIONAL STANDARDS FOR TEACHERS INCLUDE\n  Standard 2:       Know the content and how to teach it (2.6)\nStandard 3:       Plan for and implement effective teaching and  earning (3.4)\n  INTENDED FOR:\nR-7 teachers and 8-10 Design & Technology or Digital Technologies teachers\, Technology faculty coordinators\n  PROGRAM OUTLINE\nWorkshop participants will work to develop learning opportunities that integrate Digital Technologies from the Australian Curriculum. Participants will plan using the overarching ideas from the curriculum – and map these using the indicative times provided to writers.\n  Hours: two half day workshops\n Total hours: 5 hours\n  State number of days and delivery format\n State total hours\n  FACILITATOR\n      * Larry Spry and the Curriculum Support Team\n\n  SYSTEM ACCREDITED MODULE: NO\n  CONTACT DETAILS\n  Anne De Nicolo anne.denicolo@cesa.catholic.edu.au\n  Registration enquiries\n  Ada Mercurio ada.mercurio@cesa.catholic.edu.au\n  All contact details and further program information on this professional learning opportunity can be found at the following link Professional Learning Booklet.\n\n
DTSTAMP:20260424T160529Z
END:VEVENT
END:VCALENDAR
