BEGIN:VCALENDAR
VERSION:2.0
METHOD:PUBLISH
BEGIN:VEVENT
UID:WILD_APRICOT_EVENT_798658_SESSION_1
DTSTART:20141027T223000Z
DTEND:20141028T013000Z
SUMMARY:INTEGRATING ICT GENERAL CAPABILITY INTO TEACHING & LEARNING
LOCATION:Professional Learning Space - Kilmara Conference Centre
DESCRIPTION:https://registrationcentre.cesa.catholic.edu.au/event-798658\n\n        REMINDER   \nIntegrating ICT General Capability into Teaching & Learning - 28 Oct 2014 9:00AM\n  This course will focus on the ICT General Capability\, and participants will explore strategies and methods to integrate ICT in their learning area. Participants will explore how to make the most of the digital technologies available for their students\, and adapt to new ways of doing things as technologies evolve.\n  COURSE DESCRIPTION\n  Participants will develop opportunities to support students engage with communication and representation of knowledge to many audiences and adaptation in different contexts. The course also provides an opportunity for participants to share experiences and resources that focus on the ICT General Capability.\n  COURSE INFORMATION\n                          Session\n                        Session Date\n                        Session Time\n                                  Session 1\n                        29th July\n                        9am to 12pm\n                                  Session 2\n                        21st August\n                        9am to 12pm\n                                  Session 3\n                        28th October\n                        9am to 12pm\n                   CORE FOCI AND PRIORITIES\n      * Australia Curriculum\n\n        * ICT General Capability\n\n  AITSL AUSTRALIAN PROFESSIONAL STANDARDS FOR TEACHERS INCLUDE\n  Standard 2:       Know the content and how to teach it (2.6) Standard 3:       Plan for and implement effective teaching and learning (3.4)\nStandard 4:       Create and maintain supportive and safe learning environments (4.5)\n  INTENDED FOR:\n  R-12 Classroom Teachers from any learning area\, Early Career Teachers inquiring into the integration of ICT into the curriculum\n  PROGRAM OUTLINE\n      * 3 half day sessions\n\n  Hours: Total hours 9 hours\n  FACILITATOR\n      * Curriculum Support Team\n\n  SYSTEM ACCREDITED MODULE: NO\n  CONTACT DETAILS\n  Anne De Nicolo anne.denicolo@cesa.catholic.edu.au\n  Registration enquiries\n Ada Mercurio ada.mercurio@cesa.catholic.edu.au\n  All contact details and further program information on this professional learning opportunity can be found at the following link Professional Learning Booklet.\n\n  Parking details:\n  http://registrationcentre.cesa.catholic.edu.au/learningspace\n
DTSTAMP:20260424T160454Z
END:VEVENT
END:VCALENDAR
