BEGIN:VCALENDAR
VERSION:2.0
METHOD:PUBLISH
BEGIN:VEVENT
UID:WILD_APRICOT_EVENT_795879_SESSION_1
DTSTART:20140225T220000Z
DTEND:20140226T050000Z
SUMMARY:Using Instructional Rounds to support improvement in Literacy and Student Learning
LOCATION:NOTE: Please see date schedule for venue
DESCRIPTION:https://registrationcentre.cesa.catholic.edu.au/event-795879\n\nUsing Instructional Rounds to support improvement in Literacy and Student Learning\n  Principals and school leaders are invited to register their interest in an exploration of the Instructional Rounds model of school improvement.  This professional learning opportunity for principals and senior leaders will be facilitated by members of the Literacy Team and in joint partnership with SACPPA\, APCSS and the Principal Consultants team.  Schools are encouraged to register two participants in this series of professional conversations.\n  It is intended that this exploration of the Instructional Rounds process will involve 4 two and a half hour sessions and two full day sessions including a full day trial of the rounds process in a volunteer school.  This will occur over Semester 1 of 2014.  Interested schools will then be invited to participate in a rounds process either as part of a network or within their own school during Semester 2 2014.  It is anticipated that this will lead to a refinement of strategic planning and ongoing professional learning needs.\n  The dates for this series of conversations on Instructional Rounds are:  \n                          Day\n                        Date\n                        Time\n                        Venue\n                                  Wednesday\n                        26 February\n                        Full day\n                        EDC\n         Room 1.11B\n                                  Wednesday\n                        12 March\n                        8.30-11.30\n                        CEO\n          Room 7\n                                  Wednesday\n                        26 March\n                        8.30-11.30\n                        CEO\n         Room 6\n                                  Monday\n                        5 May\n                        8.30-11.30\n                        EDC\n         Room G.11A\n                                  Thursday\n                        5 June\n                        Full day\n                        CEO\n         Room 6\n                                  Wednesday\n                        18 June\n                        8.30-11.30\n                        CEO\n         Room 6\n                    * Venue\n  Education Development Centre (EDC)\n Milner Street\n Hindmarsh SA\n  Directions Education Development Centre (EDC)\n   \n  *Venue\n  Catholic Education Office (CEO)\n 116 George Street\n Thebarton SA\n  Directions Catholic Education Office (CEO)\n   \n  Please click on the links below to access these documents:\n Proposed Schedule\nLearning from Instructional Rounds\n  For further information about the Instructional Rounds model please seek further advice from Stephen Kelly at stephen.kelly@cesa.catholic.edu.au or telephone 83016820.  Or follow the link:\n  http://www.gse.harvard.edu/ppe/programs/prek-12/portfolio/instructional-rounds.html\n   \n   \n   \n  \n \n           \n
DTSTAMP:20260424T154018Z
END:VEVENT
END:VCALENDAR
