BEGIN:VCALENDAR
VERSION:2.0
METHOD:PUBLISH
BEGIN:VEVENT
UID:WILD_APRICOT_EVENT_782504_SESSION_1
DTSTART:20131120T223000Z
DTEND:20131121T050000Z
SUMMARY:Languages - Leading the Change with the Australian Curriculum - Languages Teachers F-12
LOCATION:Thebarton Community Centre - Cnr South Rd & Ashwin Parade
DESCRIPTION:https://registrationcentre.cesa.catholic.edu.au/event-782504\n\nLanguages\n \nLeading the Change with the Australian Curriculum\n Languages Teachers F - 12\n  Last Day to Register: Monday 18 November 2013\n    This professional learning day provides an opportunity for teachers of languages and key literacy teachers in CESA schools to learn about draft Australian Curriculum - Languages and how to start engaging with it in their teaching contexts. It is expected that Australian Curriculum for Italian and Chinese is approved by the ACARA Board before the end of this year and this day has been planned to address the Australian Curriculum - Languages in general and how to integrate the study of languages with other areas of the schools' curriculum\n  COURSE INFORMATION:\n When:           Thursday 21 November 2013\n  Location:     Thebarton Community Centre\n                          Corner South Road and Ashwin Parade\n                          Room 3\n  AITSL AUSTRALIAN PROFESSIONAL STANDARDS FOR TEACHERS INCLUDE:\n Standard 2.    Know the content and how to teach it\n Standard 3.    Plan for and implement effective teaching and learning\n Standard 6.    Engage in professional learning and improve practice\n  PROGRAM OUTLINE:\n1 Day course - 6 hours\n\n For more information please click on flyer\n  TRT: is the responsibility of attending teachers but you can make use of the $3\,000 grant all CESA schools received at the end of 2012 for the purpose of Australian Curriculum implementation\n  Cost: no workshop fee\n  Catering: morning tea and lunch will be  provided\n   \n  FACILITATOR:\n Ludgero Rego - Languages Consultant\n ludgero.rego@cesa.catholic.edu.au\n 8301 6839\n  For Further Information regarding registration:\nChris Virgin\n chris.virgin@cesa.catholic.edu.au\n8301 6851\n   \n   \n   \n
DTSTAMP:20260424T154141Z
END:VEVENT
END:VCALENDAR
