BEGIN:VCALENDAR
VERSION:2.0
METHOD:PUBLISH
BEGIN:VEVENT
UID:WILD_APRICOT_EVENT_778817_SESSION_1
DTSTART:20131124T223000Z
DTEND:20131125T050000Z
SUMMARY:Languages - The Draft Australian Curriculum - Spanish: Integrating it in the School Curriculum
LOCATION:Flinders University\, Victoria Square - Room 3\, Level 1
DESCRIPTION:https://registrationcentre.cesa.catholic.edu.au/event-778817\n\nLanguages\n \nThe Draft Australian Curriculum - Spanish:\n Integrating it in the School Curriculum\n  Last Day to Register: Wednesday 20 November 2013\n    This professional learning day provides an opportunity for teachers of Spanish and key literacy teachers in CESA schools to learn about draft Australian Curriculum - Languages and how to start engaging with it in their teaching contexts. It is expected that Australian Curriculum for Italian and Chinese is approved by the ACARA Board before the end of this year and this day has been planned to address the Australian Curriculum - languages in general and how to integrate the study of languages with other areas of the schools' curriculum. \n  COURSE INFORMATION:\n When:           Monday 25 November 2013\n  Location:     Flinders University\n                          Victoria Square\n                          Room 3\, Level 1\n  AITSL AUSTRALIAN PROFESSIONAL STANDARDS FOR TEACHERS INCLUDE:\n Standard 2: Know the content and how to teach it\n Standard 3: Plan for and implement effective teaching and learning\n Standard 6: Engage in professional learning\n Duration:     6 hours\n  PROGRAM OUTLINE:\n1 Day course - 6 hours\n \n For more information please click on Flyer\n  TRT: is the responsibility of attending teachers but you can make use of the $3\,000 grant all CESA schools received at the end of 2012 for the purpose of Australian Curriculum implementation\n  Parking: the Central market carpark seems to be the cheapest and most convenient but there are others nearby - please allow some time to look for a park before the start of the PL day\n  Cost: no workshop fee\n  Catering: is not provided as participants will have the opportunity to get morning coffee / tea and lunch from the many coffee shops nearby\n  FACILITATOR:\n Ludgero Rego - Languages Consultant\n ludgero.rego@cesa.catholic.edu.au\n 8301 6839\n  For Further Information regarding registration:\nChris Virgin\n chris.virgin@cesa.catholic.edu.au\n8301 6851\n   \n   \n   \n
DTSTAMP:20260424T160014Z
END:VEVENT
END:VCALENDAR
