BEGIN:VCALENDAR
VERSION:2.0
METHOD:PUBLISH
BEGIN:VEVENT
UID:WILD_APRICOT_EVENT_750421_SESSION_1
DTSTART:20131024T133000Z
DTEND:20131025T133000Z
SUMMARY:Australian Curriculum: Geography- Orientation Workshops (F-10)
LOCATION:Somerton Surf Life Saving Club
DESCRIPTION:https://registrationcentre.cesa.catholic.edu.au/event-750421\n\nAustralian Curriculum: Geography - Orientation Workshops F-10\n     This half-day workshop is for curriculum leaders and key teachers responsible for the implementtion of Australian Curriculum: Geography.\n  The workshop will provide an opportunity for participants to explore the content\, understandings\, skills\, inquiry model and achievement standards of the curriculum. A key aspect of this familiarisation process is the articulation of the key concepts of the geography curriculum. These concepts form the basis of the geographical thinking which is fundamental to the successful teaching and assessment of the geography curriculum. A variety of resources will also be showcased.\n  This workshop will be facilitated by Malcolm McInerney who is experienced Geography educator. Malcolm worked as an advisor to the writers of the Australian Curriculum - Geography and is currently chair of a highly the Australian Geography Teachers' Association.\n  AITSL Standards 2\,3 and 6\n\n  For further information please contact Marianne Farrugia\, Australian Curriculum Consultant on 8301 6147 or via email marianne.farrugia@cesa.catholic.edu.au\n   Please note that two half-day workshops will be delivered on the day\, please select only ONE:\n      * 9.00am - 12.30pm session - FULL\n\n        *          * A light morning tea will be provided.\n\n            * Lunch is optional\, please indicate in registration form.\n\n   \n\n        * 1.30pm - 4.30pm\n\n        *          * Please indicate if you will be attending early for lunch.\n\n   \n\n    Venue:\nSomerton Surf Life Saving Club\nCnr Repton Rd and The Esplanade\n Somerton Park SA 5044  Parking: Street Parking Available\n  Registration closed: Thursday\, 17 October 2013\n  For registration inquiries please contact:\nRia Wong\n Catholic Education Office\n 8301 6618 or ria.wong@cesa.catholic.edu.au\n   \n
DTSTAMP:20260424T172223Z
END:VEVENT
END:VCALENDAR
