BEGIN:VCALENDAR
VERSION:2.0
METHOD:PUBLISH
BEGIN:VEVENT
UID:WILD_APRICOT_EVENT_740296_SESSION_1
DTSTART:20130827T233000Z
DTEND:20130828T063000Z
SUMMARY:Languages - Australian Curriculum: Asia and Australia's engagement with Asia (Indonesia)
LOCATION:Catholic Education Office\, Conference Centre 116 George St Thebarton
DESCRIPTION:https://registrationcentre.cesa.catholic.edu.au/event-740296\n\n \n  The Asia Priority - Enriching Teaching and Learning about Indonesia\n  To provide school leaders and teachers of languages and other learning areas with the opportunity to:\n      *             build capacity to implement the Australian Curriculum cross curriculum priority of Asia and Australia's engagement with Asia across learning areas\, with a focus on Indonesia        \n\n        *             benefit from the knowledge and experience of educators in CESA schools in the ways they have maximised the potential of study tours to increase intercultural understanding        \n\n        *             learn about the opportunities for leaders and teachers to participate in upcoming study tours to strengthen Asia literacy        \n\n        *             network with other CESA schools implementing Indonesian culture and language programs and the Asia priority        \n\n  AITSL National Professional Standards for teachers\n      *             Standard 3: Plan for and implement effective teaching and learning        \n\n        *             Standard 6: Engage in professional learning        \n\n        *             Standard 7: Engage professionally with colleagues\, parents/carers and the community        \n\n  When:     Wednesday 28 August 2013\n \n Where:    Catholic Education Office - Room 8\n               116 George Street\n               Thebarton\n \n Time:      9.00am - 4.00pm\n  Morning Tea and Lunch will be provided\n  Parking is not available on site. Please refer to the attached link.\n Catholic Education Conference Centre\n  Facilitator:\nAnne Spencer\, CESA Languages Consultant\n \n\nLast day to Register - Tuesday 27 August 2013\n \n\n  TRT to attend this workshop can be covered by the Languages Grant that all schools received towards the end of 2012.\n  For all registration enquiries please contact\n Anne Spencer 8301 6655 or anne.spencer@cesa.catholic.edu.au\n   \n   \n
DTSTAMP:20260424T160024Z
END:VEVENT
END:VCALENDAR
