BEGIN:VCALENDAR
VERSION:2.0
METHOD:PUBLISH
BEGIN:VEVENT
UID:WILD_APRICOT_EVENT_713849_SESSION_1
DTSTART:20130725T233000Z
DTEND:20130726T060000Z
SUMMARY:Australian Curriculum: History \; Junior Primary Workshop
LOCATION:CEO Conference Centre\, Room 8
DESCRIPTION:https://registrationcentre.cesa.catholic.edu.au/event-713849\n\nAUSTRALIAN CURRICULUM: HISTORY\n  JUNIOR PRIMARY WORKSHOP\n  $15\n Coffee/tea on arrival\n Morning tea and lunch provided\n   An Australian Curriculum: History workshop specifically focussed on the Junior Primary Years.\n  Facilitated by AC: History Consultant\, Simon Kelly and the Junior Primary Team from St Joseph's School\, West Hindmarsh\, Diana Comitogianni\, Joanne Haynes and Kim Seeman\, the workshop will:\n      * examine contemporary theory and pedagogy in the junior primary years\n\n        * unpack 'My Place in Time' \, an extensive History-driven junior primary unit\n\n        * provide opportunities for ideas sharing and unit planning\n\n  For any further information contact Simon Kelly on 8301 6190 or simon.kelly@cesa.catholic.edu.au\n       Registration closed: Tuesday\, 23 July 2013\n  Venue:\nCatholic Education Office\nRoom 8\nConference Centre\n116 George Street\nTHEBARTON SA 5031\n  \nParking\n Parking is not available at the George Street worksite.\n Please refer to this map and park in:\n      * Queen of Angels Church carpark (off South Road)\n\n        * streets surrounding the CEO.\n\n  For registration enquiries please contact:\n  Ria Wong\nCatholic Education Office\n 8301 6618 or ria.wong@cesa.catholic.edu.au\n\n
DTSTAMP:20260424T171844Z
END:VEVENT
END:VCALENDAR
