BEGIN:VCALENDAR
VERSION:2.0
METHOD:PUBLISH
BEGIN:VEVENT
UID:WILD_APRICOT_EVENT_711811_SESSION_1
DTSTART:20130828T233000Z
DTEND:20130829T060000Z
SUMMARY:Secondary Assessment for Learning and Literacy Initiatives (SALLI) Professional Rounds
LOCATION:CEO Conference Centre\, 116 George Street\, Thebarton SA 5031
DESCRIPTION:https://registrationcentre.cesa.catholic.edu.au/event-711811\n\n        Learning Design and Benchmarking:\nJunior Secondary English\n  The purpose of SALLI is to provide to CESA secondary schools targeted\, design based professional rounds that link literacy\, learning and assessment.  The first professional round will focus on sector consistency in assessment for learning in Junior Secondary English\, Years 7-10. \n  This professional round is a two day event.  An outline of the event can be accessed at: SALLI Round 1\n  Both days will be held at the Catholic Education Conference Centre from 9.00 - 3.30 as follows:\n                                          Term\n                        Date\n                        Room\n                                  3\n                        Thursday\, 29 August\n                        7\n                                  4\n                        Tuesday\, 5 November\n                        7\n                    Please direct all event enquiries to Stephen Kelly at stephen.kelly@cesa.catholic.edu.au or telephone 83016820.\n   \n  AITSL Standards for Teachers:\n  This Professional Learning course references the following AITSL Australian Professional Standards for Teachers:\n  Standard 1:  Know students and how they learn\n  Standard 2:  Know the content and how to teach it\n  Standard 3:  Plan for and implement effective teaching and learning\n  Standard 5:  Assess\, provide feedback and report on student learning\n  Standard 6:  Engage in professional learning\n  Standard 7:  Engage professionally with colleagues\, parents/carers and the community \n  Duration:     20 hours\n   \n  Venue:\n Catholic Education Conference Centre \n 116 George Street\, Thebarton \n   \n  Parking:  \nIs NOT AVAILABLE at the George Street worksite.\n  Please refer to this map (pdf) and park in:\n      * Queen of Angels Church carpark (off South Road)\n\n        * streets surrounding the CEO\n\n  Registration: \n Closes Tuesday\, 27 August 2013\n   \n  For registration enquiries please contact\n  Elaine Mulhall\n Catholic Education Office\n Ph  8301 6694\n elaine.mulhall@cesa.catholic.edu.au\n   \n  Morning tea and lunch is provided.\n   \n   \n   \n  \n \n           \n
DTSTAMP:20260424T154550Z
END:VEVENT
END:VCALENDAR
