BEGIN:VCALENDAR
VERSION:2.0
METHOD:PUBLISH
BEGIN:VEVENT
UID:WILD_APRICOT_EVENT_699812_SESSION_1
DTSTART:20130618T233000Z
DTEND:20130619T030000Z
SUMMARY:Australian Curriculum: Unpacking Sources in the Secondary School
LOCATION:CEO Conference Centre\, Room 6
DESCRIPTION:https://registrationcentre.cesa.catholic.edu.au/event-699812\n\nAustralian Curriculum:\n  History -Unpacking Sources in the Secondary School\n   \n          \n  Unpacking Sources in the Secondary School\, is designed for Teachers in Years 7-10 who are new to History\, or those wishing a short refresher course on the concepts of sources and evidence and the skill of analysis and use of sources.\n   \n  Date: Wednesday\, 19 June 2013\n Time: 09.00 am – 12.30 pm\n  Room 6\n Venue\nCatholic Education Office\n116 George Street\n THEBARTON SA 5031\n   \n  For workshop enquiries please contact:\n  Simon Kelly\n  Catholic Education Office\n  ph 8301 6190\n  simon.kelly@cesa.catholic.edu.au\n   \n  Morning tea will be provided\n        \n  Registration closed: Friday\, 14 June 2013\n   \n  Parking\n Parking is not available at the George Street worksite.\n Please refer to this map and park in:\n      * Queen of Angels Church carpark (off South Road)\n\n        * streets surrounding the CEO.\n\n  For registration enquiries please contact:\n  Ria Wong\nCatholic Education Office\n Ph 8301 6618\nria.wong@cesa.catholic.edu.au\n
DTSTAMP:20260424T154356Z
END:VEVENT
END:VCALENDAR
