BEGIN:VCALENDAR
VERSION:2.0
METHOD:PUBLISH
BEGIN:VEVENT
UID:WILD_APRICOT_EVENT_699779_SESSION_1
DTSTART:20130616T233000Z
DTEND:20130617T063000Z
SUMMARY:Australian Curriculum: Historical Inquiry in the Primary School
LOCATION:CEO Conference Centre\, Room 8
DESCRIPTION:https://registrationcentre.cesa.catholic.edu.au/event-699779\n\nAustralian Curriculum: History -\n  Historical Inquiry in the Primary School\n   \n  $15 per person\n       Historical Inquiry in the Primary School provides an introduction to the syntactic structures of History\, the processes of inquiry and offers some ideas for implementation in the classroom.\n   \n  Date: Monday\, 17 June 2013\nTime: 09.00am – 04.00pm\n  Room 8\nVenue\nCatholic Education Office\n116 George Street\n THEBARTON SA 5031\n   \n  For workshop enquiries please contact:\n  Simon Kelly\n  Catholic Education Office\n  ph 8301 6190\n  simon.kelly@cesa.catholic.edu.au\n   \n  Morning tea and Lunch will be provided\n        Registration close: Thursday\, 13 June 2013\n   \n  Parking\n Parking is not available at the George Street worksite.\n Please refer to this map and park in:\n      * Queen of Angels Church carpark (off South Road)\n\n        * streets surrounding the CEO.\n\n  For registration enquiries please contact:\n  Ria Wong\n  Catholic Education Office\n Ph 8301 6618\nria.wong@cesa.catholic.edu.au\n  
DTSTAMP:20260424T153904Z
END:VEVENT
END:VCALENDAR
