BEGIN:VCALENDAR
VERSION:2.0
METHOD:PUBLISH
BEGIN:VEVENT
UID:WILD_APRICOT_EVENT_697279_SESSION_1
DTSTART:20130703T033000Z
DTEND:20130703T063000Z
SUMMARY:Draft F-10 Australian Curriculum: Business and Economics Consulation
LOCATION:CEO Conference Centre\, Room 8
DESCRIPTION:https://registrationcentre.cesa.catholic.edu.au/event-697279\n\nDraft F-10 Australian Curriculum: Business and Economics Consultation\n   For teachers of HASS (Humanities and Social Sciences) to read\, discuss and provide general feedback on the Draft F-10 Australian Curriculum: Business and Economics.\n  Please access\, download and bring with you the draft curriculum which you can obtain from here: http://consultation.australiancurriculum.edu.au/\n  This professional Learning session references the following AITSL Australian Professional Standards for teachers:\n      * Standard 2: Know the content and how to teach it\n\n        * Standard 3: Plan for and implement effective teaching and learning\n\n        * Standard 6: Engage in professional learning\n\n  Any inquiries about the workshop please contact the facilitator:\nMarianne Farrugia\nCESA F-10 Australian Curriculum Consultant\n 8301 6147 or marianne.farrugia@cesa.catholic.edu.au\n  Afternoon tea will be provided\n   Registration closed: Thursday\, 27 June 2013\n  Parking is not available on site\, Please refer  to the attached link:  Catholic Education Conference Centre\n  For all registration enquiries please contact:\nRia Wong\n 8301 6618 or ria.wong@cesa.catholic.edu.au\n   \n
DTSTAMP:20260424T174807Z
END:VEVENT
END:VCALENDAR
