BEGIN:VCALENDAR
VERSION:2.0
METHOD:PUBLISH
BEGIN:VEVENT
UID:WILD_APRICOT_EVENT_697270_SESSION_1
DTSTART:20130619T233000Z
DTEND:20130620T023000Z
SUMMARY:Draft F-10 Australian Curriculum: Civis and Citizenship Consultation
LOCATION:CEO Conference Centre\, Room 7
DESCRIPTION:https://registrationcentre.cesa.catholic.edu.au/event-697270\n\nCANCELLED\n   \n  Draft F-10 Australian Curriculum: Civics and Citizenship Consultation\n   For teachers of HASS (Humanities and Social Sciences) to read\, discuss and provide general feedback on the Draft F-10 Australian Curriculum: Civics and Citizenship.\n  Please access\, download and bring with you the draft curriculum which you can obtain from here: http://consultation.australiancurriculum.edu.au/\n  This Professional Learning session references the following AITSL Australian Professional Standards for teachers:\n      *             Standard 2: Know the content and how to teach it        \n\n        *             Standard 3: Plan for and implement effective teaching and learning        \n\n        *             Standard 6: Engage in professional learning        \n\n  For any inquiries about the workshop please contact the Facilitator:\nMarianne Farrugia\n CESA F-10 Australian Curriculum Consultant\n 8301 6147 or marianne.farrugia@cesa.catholic.edu.au\n  Morning Tea will be provided\n     Parking is not available on site. Please refer to the attached link:Catholic Education Conference Centre\n  Registration closed: Monday\, 17 June 2013\n  For all registration enquiries please contact:\nRia Wong\n 8301 6618 or ria.wong@cesa.catholic.edu.au\n
DTSTAMP:20260424T174410Z
END:VEVENT
END:VCALENDAR
