BEGIN:VCALENDAR
VERSION:2.0
METHOD:PUBLISH
BEGIN:VEVENT
UID:WILD_APRICOT_EVENT_696557_SESSION_1
DTSTART:20130617T013000Z
DTEND:20130617T053000Z
SUMMARY:Languages - Australian Curriculum: Languages - Italian - Port Pirie Diocese
LOCATION:Catholic Education Office\, Port Pirie
DESCRIPTION:https://registrationcentre.cesa.catholic.edu.au/event-696557\n\n \n  Australian Curriculum: Languages - Italian\n (Port Pirie Diocese)\n\n  \nFor teachers of Italian to:\n      *             build knowledge of the organisation of the Australian Curriculum: Languages        \n\n        *             deepen understanding of the general capabilities dimension of curriculum content        \n\n        *             make decisions about which aspects of the general capabilities can be combined to create the conditions of learning that best suit the needs of the students        \n\n        *             engage in professional dialogue with colleagues in other CESA schools        \n\n  This Professional Learning session references the following AITSL Australian Professional Standards for Teachers:\n Standard 3: Plan for and implement effective teaching and learning\n Standard 6: Engage in professional learning\n  Please access\, download and bring with you the general capabilities in the Australian Curriculum document which is located at:\n\n  http://www.australiancurriculum.edu.au/GeneralCapabilities/Overview/General-capabilities-in-the-Australian-Curriculum\n  When: Monday 17 June 2013\n \n Where:  Catholic Education Office \n              Port Pirie            \n              Room 8\n  Time:     11.00am - 3.00pm\n  Lunch will be provided\n  Facilitator:\nAnne Spencer\, CESA Languages Consultant\n \n\nLast day to Register - Wednesday 12 June 2013\n \n\n  TRT to attend this workshop can be covered by the Languages Grant that all schools received towards the end of 2012.\n  For all registration enquiries please contact\n Anne Spencer 8301 6655 or anne.spencer@cesa.catholic.edu.au\n   \n   \n
DTSTAMP:20260424T171950Z
END:VEVENT
END:VCALENDAR
