BEGIN:VCALENDAR
VERSION:2.0
METHOD:PUBLISH
BEGIN:VEVENT
UID:WILD_APRICOT_EVENT_693231_SESSION_1
DTSTART:20130612T233000Z
DTEND:20130613T063000Z
SUMMARY:Languages - Australian Curriculum: Languages - Italian
LOCATION:The Thebarton Community Centre\, Cnr Ashwin Parade & South Road\, Torrensville
DESCRIPTION:https://registrationcentre.cesa.catholic.edu.au/event-693231\n\n \n  Australian Curriculum: Languages - Italian\n\n  \n \nFor teachers of Italian to:\n      *             build knowledge of the organisation of the Australian Curriculum: Languages        \n\n        *             deepen understanding of the general capabilities dimension of curriculum content        \n\n        *             make decisions about which aspects of the general capabilities can be combined to create the conditions of learning that best suit the needs of the students        \n\n        *             engage in professional dialogue with colleagues in other CESA schools        \n\n  Please access\, download and bring with you the general capabilities in the Australian Curriculum document which is located at:\n\n  http://www.australiancurriculum.edu.au/GeneralCapabilities/Overview/General-capabilities-in-the-Australian-Curriculum\n  When: Thursday 13 June 2013\n \n Where:  The Thebarton Community Centre \n              Cnr Ashwin Parade and South Road\n              Torrensville\n              Room 3\n  Time:     9.00am - 4.00pm\n  Morning Tea and Lunch will be provided\n  Facilitator:\nAnne Spencer\, CESA Languages Consultant\n \n\nLast day to Register - Thursday 06 June 2013\n \nPlease register early to avoid disappointment\n  TRT to attend this workshop can be covered by the Languages Grant that all schools received towards the end of 2012.\n  For all registration enquiries please contact\n Anne Spencer 8301 6655 or anne.spencer@cesa.catholic.edu.au\n   \n   \n
DTSTAMP:20260424T155712Z
END:VEVENT
END:VCALENDAR
