BEGIN:VCALENDAR
VERSION:2.0
METHOD:PUBLISH
BEGIN:VEVENT
UID:WILD_APRICOT_EVENT_693102_SESSION_1
DTSTART:20130627T233000Z
DTEND:20130628T063000Z
SUMMARY:Languages - Draft F-10 Australian Curriculum: Languages - Japanese (Secondary)
LOCATION:Professional Learning Space\, 112 Kintore Street\, Thebarton
DESCRIPTION:https://registrationcentre.cesa.catholic.edu.au/event-693102\n\n \n  Draft F-10 Australian Curriculum: Languages - Japanese (Secondary)\n  For teachers of languages to read\, discuss and provide feedback on the Draft F-10 Australian Curriculum: (Japanese). More specifically\, teachers will have the opportunity to engage in professional dialogue with colleagues in other CESA schools about the Draft F-10 Australian Curriculum\; (Japanese). Please access\, download and bring with you these documents which you can obtain from here:\n http://consultation.australiancurriculum.edu.au/\n  When:     Friday 28 June 2013\n Where:    Professional Learning Space\n               112 Kintore Street            \n               Thebarton\n Time:      9.00am - 4.00pm\n  Morning Tea and Lunch will be provided\n  Facilitator:\nAnne Spencer\, CESA Languages Consultant\n \n\nLast day to Register - Wednesday 26 June 2013\n \nTRT to attend this workshop can be covered by the Languages Grant that all schools received towards the end of 2012.\n  For all registration enquiries please contact\n Anne Spencer 8301 6655 or anne.spencer@cesa.catholic.edu.au\n   \n   \n
DTSTAMP:20260424T160220Z
END:VEVENT
END:VCALENDAR
