BEGIN:VCALENDAR
VERSION:2.0
METHOD:PUBLISH
BEGIN:VEVENT
UID:WILD_APRICOT_EVENT_693095_SESSION_1
DTSTART:20130624T013000Z
DTEND:20130624T053000Z
SUMMARY:Languages - Draft F-10 Australian Curriculum: Languages - German
LOCATION:Catholic Education Office\, 116 George St Thebarton
DESCRIPTION:https://registrationcentre.cesa.catholic.edu.au/event-693095\n\n \n  Draft F-10 Australian Curriculum: Languages - German\n  For teachers of languages to read\, discuss and provide feedback on the Draft F-10 Australian Curriculum: (German). More specifically\, teachers will have the opportunity to engage in professional dialogue with colleagues in other CESA schools about the Draft F-10 Australian Curriculum\; (German). Please access\, download and bring with you these documents which you can obtain from here:\n http://consultation.australiancurriculum.edu.au/\n  When:     Monday 24 June 2013\n Where:    Catholic Education Conference Centre\n               Boardroom            \n               116 George Street\n               Thebarton\n Time:      11.00am - 3.00pm\n  Lunch will be provided\n  Parking is not available on site. Please refer to the attached link.\n Catholic Education Conference Centre\n  Facilitator:\nAnne Spencer\, CESA Languages Consultant\n \n\nLast day to Register - Wednesday 19 June 2013\n \n\n  TRT to attend this workshop can be covered by the Languages Grant that all schools received towards the end of 2012.\n  For all registration enquiries please contact\n Anne Spencer 8301 6655 or anne.spencer@cesa.catholic.edu.au\n   \n   \n
DTSTAMP:20260424T172126Z
END:VEVENT
END:VCALENDAR
