BEGIN:VCALENDAR
VERSION:2.0
METHOD:PUBLISH
BEGIN:VEVENT
UID:WILD_APRICOT_EVENT_692520_SESSION_1
DTSTART:20130630T233000Z
DTEND:20130701T063000Z
SUMMARY:Assessment For Learning in the Australian Curriculum: Primary - Workshops
LOCATION:CEO Conference Centre\, Room 7
DESCRIPTION:https://registrationcentre.cesa.catholic.edu.au/event-692520\n\nASSESSMENT FOR LEARNING IN THE AUSTRALIAN CURRICULUM: PRIMARY -WORKSHOPS\n     We invite school leaders\, curriculum leaders and teachers to attend workshop exploring Assessment for Learning in the Australian Curriculum F-10. Please note these sessions are a repeat of those offered last year in the development of CESA performance expectations and indicators.\n  The workshops will assist F-10 educators to:\n      *             Unpack the Australian Curriculum achievement standards        \n\n        *             Consider processes for standards referenced assessment        \n\n        *             Use CESA assessment tools - Performance Expectations and Indicators        \n\n  The workshop is designed to enable participants to work with staff in their schools in relation to assessment and learning.\n  Any questions regarding the workshops please contact:\n  Marianne Farrugia\nAustralian Curriculum Consultant\n 8301 6147 or marianne.farrugia@cesa.catholic.edu.au\n       Registration closed: Monday\, 24 June 2013\n   \n  Venue:\nCatholic Education Office\nRoom 7\nConference Centre\n116 George Street\nTHEBARTON SA 5031\n  \nParking\n Parking is not available at the George Street worksite.\n Please refer to this map and park in:\n      * Queen of Angels Church carpark (off South Road)\n\n        * streets surrounding the CEO.\n\n  For registration enquiries please contact:\n  Ria Wong\nCatholic Education Office\n 8301 6618 or ria.wong@cesa.catholic.edu.au\n\n  \n\n
DTSTAMP:20260424T154320Z
END:VEVENT
END:VCALENDAR
