BEGIN:VCALENDAR
VERSION:2.0
METHOD:PUBLISH
BEGIN:VEVENT
UID:WILD_APRICOT_EVENT_689727_SESSION_1
DTSTART:20130605T000000Z
DTEND:20130605T020000Z
SUMMARY:A Professional Conversation with Jan Raymond
LOCATION:CEO Conference Centre\, Room 8
DESCRIPTION:https://registrationcentre.cesa.catholic.edu.au/event-689727\n\nA Professional Conversation with Jan Raymond\, Executive Manager\, School Assessment Services\, SACE Board of South Australia\n   Jan Raymond\, Executive Manager\, School Assessment Services\, SACE Board of South Australia\, has kindly offered to make herself available for an informal SACE related conversation with secondary school personnel who have responsibility for SACE operations.\n  The topics covers will be largely determined by the interests of participants.\n  For further clarification please contact:\nJohn Smith\n 8301 6196\njohn.smith@cesa.catholic.edu.au\n       Registration closed: Wednesday\, 29 May 2013\n  Venue:\nCatholic Education Office\nRoom 8\n Conference Centre\n 116 George Street\n THEBARTON SA 5031\n  Parking\n Parking is not available at the George Street worksite.\n Please refer to this map and park in:\n      * Queen of Angels Church carpark (off South Road)\n\n        * streets surrounding the CEO.\n\n  For registration enquiries please contact:\n  Ria Wong\n Catholic Education Office\nPh 8301 6618\n  ria.wong@cesa.catholic.edu.au\n   \n   \n
DTSTAMP:20260424T155544Z
END:VEVENT
END:VCALENDAR
