BEGIN:VCALENDAR
VERSION:2.0
METHOD:PUBLISH
BEGIN:VEVENT
UID:WILD_APRICOT_EVENT_686862_SESSION_1
DTSTART:20130531T040000Z
DTEND:20130531T073000Z
SUMMARY:Languages - Draft F-10 Australian Curriculum: Languages - French
LOCATION:Catholic Education Office\, 116 George St Thebarton
DESCRIPTION:https://registrationcentre.cesa.catholic.edu.au/event-686862\n\n \n  Draft F-10 Australian Curriculum: Languages - French\n  For teachers of languages to read\, discuss and provide general feedback on the Draft F-10 Australian Curriculum: (French). More specifically\, teachers will have the opportunity to engage in professional dialogue with colleagues in other CESA schools about the Draft F-10 Australian Curriculum\; (French). Please access\, download and bring with you these documents which you can obtain from here:\n http://consultation.australiancurriculum.edu.au/\n  When:     Friday 31 May 2013\n Where:    Catholic Education Office - Boardroom\n               116 George Street\n               Thebarton\n Time:      1.30 - 5.00pm\n  Afternoon Tea will be provided\n  The program outline will be available shortly\n  This Professional Learning session references the following AITSL Australian Professional Standards for teachers:\n      *             Standard 2: Know the content and how to teach it        \n\n        *             Standard 3: Plan for and implement effective teaching and learning        \n\n        *             Standard 6: Engage in professional learning        \n\n  Parking is not available on site. Please refer to the attached link.\n Catholic Education Conference Centre\n  Facilitator:\nLudgero Rego\, CESA Languages Consultant\n \n\nLast day to Register - Tuesday 28 May 2013\n \n\n  TRT to attend this workshop can be covered by the Languages Grant that all schools received towards the end of 2012.\n  For all registration enquiries please contact\n Ludgero Rego 8301 6839 or ludgero.rego@cesa.catholic.edu.au\n   \n   \n
DTSTAMP:20260424T153924Z
END:VEVENT
END:VCALENDAR
