BEGIN:VCALENDAR
VERSION:2.0
METHOD:PUBLISH
BEGIN:VEVENT
UID:WILD_APRICOT_EVENT_681458_SESSION_1
DTSTART:20130526T230000Z
DTEND:20130527T030000Z
SUMMARY:EAL - 2013 - Stage 2 ESL and ESL Studies Clarifying and Confirming Session
LOCATION:Catholic Education Office - 116 George Street Thebarton
DESCRIPTION:https://registrationcentre.cesa.catholic.edu.au/event-681458\n\nEAL\n \n\n  2013 - Stage 2 ESL and ESL Studies Clarifying and Confirming  Session\n  Last Day to Register: Monday 20th May 2013\n    The purpose of the clarifying and confirming session is to help ensure that the performance standards are consistently applied across Catholic schools. Teachers will have the opportunity to have their own assessment decisions confirmed by the group. Participation is particularly relevant for teachers who are solely responsible for the delivery of Stage 2 ESL subjects in their school and/or are new to teaching the subjects.\n  Workshop Date:\nMonday 27th May 2013\n  Cost: no workshop fee\n    Catering: morning tea will be  provided\n  Venue:\n Catholic Education Office - Boardroom\n 116 George Street\, Thebarton    \n  Parking is not available on site. Please refer to the attached link.\n Catholic Education Conference Centre\n  Presenters:\n Mei French and Lynette Bellwood\n  For Further Information regarding this workshop:\nLynette Bellwood\n lynette.bellwood@cesa.catholic.edu.au\n 8301 6849\n  For Further Information regarding registration:\nChris Virgin\n chris.virgin@cesa.catholic.edu.au\n8301 6851\n
DTSTAMP:20260424T160407Z
END:VEVENT
END:VCALENDAR
