BEGIN:VCALENDAR
VERSION:2.0
METHOD:PUBLISH
BEGIN:VEVENT
UID:WILD_APRICOT_EVENT_677158_SESSION_1
DTSTART:20130522T040000Z
DTEND:20130522T070000Z
SUMMARY:Teachers of the Stage Two Research Project - Engaging with Best Practice
LOCATION:CEO Conference Centre\, Room 8
DESCRIPTION:https://registrationcentre.cesa.catholic.edu.au/event-677158\n\nTARGET GROUP:\n  TEACHERS OF THE STAGE TWO RESEARCH PROJECT\n   ACTIVITY OVERVIEW\n  This workshop is designed to emphasise the significance of the SACE improvement agenda as a way of improving student outcomes in this curriculum area.\n  Participants will have the opportunity to hear from practitioners who have used strategies to assist student reach their potential.\n  Meridie Howley from the SACE Board\, one of the architects of this subject\, will be present to describe for us the proposed changes to the Research Project and the structure of the  new Stage One subject\, Research Practices. Meridie will seek input from the group as to the nature of suitable support materials.\n  There will be additional input relating to task design and assessment structure in a way that can be applied to all SACE subjects.\n  Enquiries about this workshop can be refereed to John Smith at 8301 6196 or john.smith@cesa.catholic.edu.au\n       Registration closed: Thursday\, 16 May 2013\n   \n  Venue:\nCatholic Education Office\nRoom 8\nConference Centre\n116 George Street\nTHEBARTON SA 5031\n  \nParking\n Parking is not available at the George Street worksite.\n Please refer to this map and park in:\n      * Queen of Angels Church carpark (off South Road)\n\n        * streets surrounding the CEO.\n\n  For registration enquiries please contact:\n  Ria Wong\n  Parking\n Parking is not available at the George Street worksite.\n Please refer to this map and park in:\n      * Queen of Angels Church carpark (off South Road)\n\n        * streets surrounding the CEO.\n\n  For registration enquiries please contact:\n  Ria Wong\n  Catholic Education Office\nPh 8301 6618\n  ria.wong@cesa.catholic.edu.au\n  
DTSTAMP:20260424T155809Z
END:VEVENT
END:VCALENDAR
