BEGIN:VCALENDAR
VERSION:2.0
METHOD:PUBLISH
BEGIN:VEVENT
UID:WILD_APRICOT_EVENT_657148_SESSION_1
DTSTART:20130912T040000Z
DTEND:20130912T070000Z
SUMMARY:Integrated Learning and Religious Education
LOCATION:CEO\, Room 6
DESCRIPTION:https://registrationcentre.cesa.catholic.edu.au/event-657148\n\nINTEGRATED LEARNING\n AND\n RELIGIOUS EDUCATION\n       Using Integrated Learning as a means of delivering a SACE Religious Education Program.\n  This workshop will:\n      *             Allow participants to explore the SACE requirements for Integrated Learning.        \n\n        *             Provide opportunity to create a Religious Education Program using the structure of Integrated Learning        \n\n        *             Work with practitioners who excel in this subject area        \n\n  Any inquiries about this workshop please contact:\nJohn Smith\n 8301 6196 or john.smith@cesa.catholic.edu.au\n       Venue:\nCatholic Education Office\n Room 6\n Conference Centre\n 116 George Street\n THEBARTON SA 5031\n\n    Registration closed: Thursday\, 5 September 2013\n  Parking\n Parking is not available at the George Street worksite.\n Please refer to this map and park in:\n      * Queen of Angels Church carpark (off South Road)\n\n        * streets surrounding the CEO.\n\n  For registration enquiries please contact:\n  Ria Wong\n  Catholic Education Office\nPh 8301 6618\n  ria.wong@cesa.catholic.edu.au\n
DTSTAMP:20260424T155534Z
END:VEVENT
END:VCALENDAR
