BEGIN:VCALENDAR
VERSION:2.0
METHOD:PUBLISH
BEGIN:VEVENT
UID:WILD_APRICOT_EVENT_648275_SESSION_1
DTSTART:20130409T040000Z
DTEND:20130409T060000Z
SUMMARY:CLASS TEACHING: PROFESSIONAL DEVELOPMENT JOURNAL (REPEAT PRESENTATION)
LOCATION:CEO Conference Centre\, Room 8
DESCRIPTION:https://registrationcentre.cesa.catholic.edu.au/event-648275\n\nCLASS TEACHING: PROFESSIONAL DEVELOPMENT JOURNAL (REPEAT PRESENTATION)\n (BASED ON THE AITSL STANDARDS)\n     As part of the professional learning program the Catholic Education Office will facilitate a workshop  associated with improving teaching strategies and AITSL requirements in particular\, Principals are invited to attend a demonstration and information session on this cloud based tool designed to assist teachers enhance a number of skills such as using self assessment practices and receiving feedback on their performance as well as helping with development of future action plans to sustain and build professional capacity.\n   \n   \n  Venue:\nCatholic Education Office\nRoom 8\n  Conference Centre\n116 George Street\nTHEBARTON SA 5031\n   \n       Registration closed: Wednesday\, 3 April 2013\n  \nParking\n Parking is not available at the George Street worksite.\n Please refer to this map and park in:\n      * Queen of Angels Church carpark (off South Road)\n\n        * streets surrounding the CEO.\n\n  For registration enquiries please contact:\n  Ria Wong\n  Catholic Education Office\nPh 8301 6618\n  ria.wong@cesa.catholic.edu.au\n      
DTSTAMP:20260424T154101Z
END:VEVENT
END:VCALENDAR
