BEGIN:VCALENDAR
VERSION:2.0
METHOD:PUBLISH
BEGIN:VEVENT
UID:WILD_APRICOT_EVENT_642443_SESSION_1
DTSTART:20130405T003000Z
DTEND:20130405T043000Z
SUMMARY:Languages - Draft F-10 Australian Curriculum: Languages - Italian - Regional Consultation Session at Catholic Education Office\, Port Pirie
LOCATION:Catholic Education Office\, 105 Gertrude Street\,  Port Pirie
DESCRIPTION:https://registrationcentre.cesa.catholic.edu.au/event-642443\n\n \n  Draft F-10 Australian Curriculum: Languages - Italian - Regional  Consultation\n \n Catholic Education Office\, Port Pirie\n  \nFor teachers of Italian to:\n \n\n      *             extend knowledge of the Draft F-10 Australian Curriculum: Languages - Italian        \n\n        *             provide feedback on specific aspects of the draft Italian curriculum including content\, sequence across the band levels and the achievement standards        \n\n  Teachers of other languages are very welcome to attend.\n  There will be opportunities for all participants to:\n      *             gain further understanding of the Australian Curriculum: Languages        \n\n        *             engage with colleagues in other schools and        \n\n        *             read\, discuss and provide feedback on the  Preamble\, Rationale\, Aims\, and Organisation of the Languages Learning Area.        \n\n  When: \nFriday 5 April 2013\n Where:  \n Catholic Education Office\n 105 Gertrude Street\, Port Pirie\n The Conference Room\n Time:     \n 11.00am - 3.00pm\n \n Lunch will be provided\n  Facilitator:\nAnne Spencer\, CESA Languages Consultant\n \nLast day to Register - Tuesday 02 April 2013\n \nPlease register early to avoid disappointment\n  TRT: Teachers of languages in CESA schools can access the grant that was sent to every school towards the end of the 2012 school year ($3\,000) for teachers to use in PL relating to the Australian Curriculum. Check with your Principal if you are unaware of this.\n  For all registration enquiries please contact\n Anne Spencer 8301 6655 or anne.spencer@cesa.catholic.edu.au\n   \n   \n
DTSTAMP:20260424T174401Z
END:VEVENT
END:VCALENDAR
