BEGIN:VCALENDAR
VERSION:2.0
METHOD:PUBLISH
BEGIN:VEVENT
UID:WILD_APRICOT_EVENT_642431_SESSION_1
DTSTART:20130321T133000Z
DTEND:20130322T133000Z
SUMMARY:Languages - Draft F-10 Australian Curriculum: Languages - Italian
LOCATION:The Australian Institute of Management SA\, 180 Port Road Hindmarsh
DESCRIPTION:https://registrationcentre.cesa.catholic.edu.au/event-642431\n\n \n  Draft F-10 Australian Curriculum: Languages - Italian\n \nTeachers of Primary Years - 8.30 - 12.00 noon\n Teacher of Secondary Years - 12.30 - 4.00pm\n  \nFor teachers of Italian to extend knowledge of and provide feedback on the Draft F-10 Australian Curriculum: Languages - ITALIAN.\n Teachers will have the opportunity to gain further understanding of the Australian Curriculum: Languages engage with colleagues in other CESA schools and provide feedback.\n      *             the rationale\, aims and overarching design of the Languages curriculum        \n\n        *             specific aspects of the draft Italian curriculum including content\, sequence across the band levels and the achievement standards        \n\n  When: \nFriday 22 March 2013\n \n Where: \n Room 8 \n The Australian Institute of Management SA \n Centre for Management Development\n 180 Port Road\, Hindmarsh\n \n Time:     \n Teachers of Primary Years -  8.30am - 12.00noon\n Teachers of Secondary Years - 12.30pm - 4.00pm\n  Facilitator:\nAnne Spencer\, CESA Languages Consultant\n \n\nLast day to Register - Tuesday 19 March 2013\n \nPlease register early to avoid disappointment\n  TRT to attend this workshop can be covered by the Languages Grant that all schools received towards the end of 2012.\n  For all registration enquiries please contact\n Anne Spencer 8301 6655 or anne.spencer@cesa.catholic.edu.au\n   \n   \n
DTSTAMP:20260424T153938Z
END:VEVENT
END:VCALENDAR
