BEGIN:VCALENDAR
VERSION:2.0
METHOD:PUBLISH
BEGIN:VEVENT
UID:WILD_APRICOT_EVENT_638667_SESSION_1
DTSTART:20130326T030000Z
DTEND:20130326T053000Z
SUMMARY:Languages - Draft F-10 Australian Curriculum: Languages - An Overview
LOCATION:Catholic Education Office\, Conference Centre 116 George St Thebarton
DESCRIPTION:https://registrationcentre.cesa.catholic.edu.au/event-638667\n\n \n  Draft F-10 Australian Curriculum: Languages - An Overview\n  For teachers of languages to read\, discuss and provide general feedback on the Draft F-10 Australian Curriculum: Languages. More specifically\, teachers will have the opportunity to engage in professional dialogue with colleagues in other CESA schools about overarching Languages paper - Preamble\, Rationale\, Aims\, and Organisation of the Languages Learning Area.\n  When:     Tuesday 26 March 2013\n Where:    Catholic Education Office\n               Conference Centre \n               Room 8\n Time:      1.30 - 4.00pm\n  Afternoon Tea will be provided\n  Please click here for Program Outline\n  Parking is not available on site. Please refer to the attached link.\n Catholic Education Conference Centre\n  Facilitator:\nLudgero Rego\, CESA Languages Consultant\n \n\nLast day to Register - Thursday 21 March 2013\n \nPlease register early to avoid disappointment\n  TRT to attend this workshop can be covered by the Languages Grant that all schools received towards the end of 2012.\n  For all registration enquiries please contact\n Ludgero Rego 8301 6839 or ludgero.rego@cesa.catholic.edu.au\n   \n   \n
DTSTAMP:20260424T160132Z
END:VEVENT
END:VCALENDAR
