BEGIN:VCALENDAR
VERSION:2.0
METHOD:PUBLISH
BEGIN:VEVENT
UID:WILD_APRICOT_EVENT_638493_SESSION_1
DTSTART:20130312T223000Z
DTEND:20130313T050000Z
SUMMARY:Languages - Technology in the Languages Classroom - Languages Teachers F-12
LOCATION:AISSA Meeting Room - 277 Unley Road (Cnr Fisher St)\, Malvern
DESCRIPTION:https://registrationcentre.cesa.catholic.edu.au/event-638493\n\n        Technology in the Languages Classroom\n  Languages Teachers F-12\n  For teachers of languages to investigate and implement a unit of work for the languages classroom\, using one or a variety of technology resources. Teachers will plan and implement a unit of work to engage students in language learning and by modelling the use of technology\, students will improve their own language learning.\n  Please click here for Program Outline\n  Workshop Dates and Times:\nDay 1: Wednesday 13 March 2013\n 9.00am - 3.30pm\n Day 2: Thursday 14 March 2013\n 9.00am - 3.30pm\n Day 3: Friday 2 August 2013\n 9.00am - 3.30pm\n \n AISSA Meeting Room\n277 Unley Road (Cnr Fisher St) Malvern\n  Facilitators:\n Anne Spencer\, CESA Languages Consultant\n Linda Wright\, AISSA Languages Adviser\n  Funding:\nTRT is available for teachers in SA Catholic Schools\n  Registration Deadline: Wednesday 27 February 2013\n  Please register early to avoid disappointment\n  For all registration enquiries please contact\n Anne Spencer( (08) 8301 6655\n 8 anne.spencer@cesa.catholic.edu.au\n   \n  \n\n  ----------------------------------------------------\n
DTSTAMP:20260424T172252Z
END:VEVENT
END:VCALENDAR
