BEGIN:VCALENDAR
VERSION:2.0
METHOD:PUBLISH
BEGIN:VEVENT
UID:WILD_APRICOT_EVENT_638444_SESSION_1
DTSTART:20130228T223000Z
DTEND:20130301T050000Z
SUMMARY:Languages - Leading Transformation for Languages Teachers
LOCATION:AISSA Meeting Room - 277 Unley Road (cnr Fisher St) Malvern
DESCRIPTION:https://registrationcentre.cesa.catholic.edu.au/event-638444\n\n \n  Leading Transformation for\n Languages Teachers\n\n  Languages Teachers F-12\n  This professional learning program provides an opportunity for teachers of languages to use the Australian Professional Standards for Teachers to improve Language learning for students through improving teaching practice in the languages classroom that is based upon current best practice theories.\n  Program Dates:\n Day 1: Friday 1 March 2013\n Day 2: Friday 16 August 2013\n AISSA Meeting Room\n 277 Unley Road\, Malvern\n 9.00am - 3.30pm\n  Facilitators:\nLudgero Rego\, CESA Languages Consultant\n Linda Wright\, AISSA Languages Adviser\n  Please click here for Program Outline\n  \nLast day to Register - Monday 25 February 2013\n  Please register early to avoid disappointment\n  TRT is available for teachers in Catholic schools\n  For all registration enquiries please contact Ludgero Rego at ludgero.rego@cesa.catholic.edu.au\n   \n   \n
DTSTAMP:20260424T190429Z
END:VEVENT
END:VCALENDAR
