BEGIN:VCALENDAR
VERSION:2.0
METHOD:PUBLISH
BEGIN:VEVENT
UID:WILD_APRICOT_EVENT_637720_SESSION_1
DTSTART:20130502T233000Z
DTEND:20130503T063000Z
SUMMARY:EAL - Literacy for Learning Course
LOCATION:Catholic Education SA - 116 George Street\, Thebarton
DESCRIPTION:https://registrationcentre.cesa.catholic.edu.au/event-637720\n\nEAL\n  Literacy for Learning Course 2013\n \nLast Day to Register: Friday 12 April 2013\n  (Minimum Numbers required are 6)\n      Literacy for Learning  is a 6 module course aligned to the Australian Curriculum where literacy is represented as a strand of the English curriculum and as a general capability essential for all curriculum areas. Literacy for Learning has been developed in response to the definition of literacy in the Australian Curriculum that is informed by a social view of language that considers how language works to construct meaning in different social and cultural contexts. \n\n The course Overview:\n      * is relevant for all teachers and provides strategies that teachers can use across the curriclum for effective planning and teaching\n\n        * underpins all its strategies with an understanding of the role of language and literacy in learning\n\n        * builds teachers' knowledge of the literacy identified in the Australian Curriculum literacy as a general capability across all learning areas and in English\n\n        * promotes whole-school approaches to addressing literacy teaching\n\n  Expectations:\nParticipants are expected to attend every session\, complete  Between Module Activities\, Module Readings and participate in discussions.  \n\n  Module Sessions:\nThe first two modules will occur on one whole day\; the subsequent 4 modules will be 2.00 - 5.00pm fortnightly.\n The workshops include a range of activities:\n\n      * input from the tutor or through DVD or text material\n\n        * discussion or other collaborative learning activities\n\n        * practical activities that are transferable to classroom contexts\n\n  Modules Overview/Schedule\n  Professional Development Hours: There are 18 hours for workshop participation and up to 40 hours non-contact time to complete all BMA's and readings.\n \nCertificate:\n  On completion of the course participants will be issued with a certificate indicating modules attended\, activities and readings completed and points accrued towards the Certificate in Teaching English as a Second Language.\n\n   \n  Participants are provided with course books containing workshop notes\, readings\, resources and school or classroom activities.\n \n Refreshments will be provided\n  Parking is not available on site. Please refer to the attached link.\n Catholic Education Conference Centre\n\n\n    Presenter: EAL Consultant - Chris Payne\n  Cost:\n $200 each teacher (if paid by the school)\n $200 plus $20.00 GST (if paid by the teacher)\n (an invoice will be forwarded upon receipt of your registration)\n  For Further Information regarding registration:\nChris Virgin\n chris.virgin@cesa.catholic.edu.au\n8301 6851\n  For  Information regarding this course:\nChris Payne\n chris.payne@cesa.catholic.edu.au\n8301 6613\n
DTSTAMP:20260424T172059Z
END:VEVENT
END:VCALENDAR
