BEGIN:VCALENDAR
VERSION:2.0
METHOD:PUBLISH
BEGIN:VEVENT
UID:WILD_APRICOT_EVENT_626553_SESSION_1
DTSTART:20130318T023000Z
DTEND:20130318T063000Z
SUMMARY:Australian Curriculum: History - Historical Inquiry in the Primary School
LOCATION:Catholic Education Office Conference Centre Room 7
DESCRIPTION:https://registrationcentre.cesa.catholic.edu.au/event-626553\n\nAustralian Curriculum: History - Historical Inquiry in the Primary School\n  Historical Inquiry in the Primary School provides an introduction to the syntactic structures of History\, the processes of inquiry and offers some ideas for implementation in the classroom.\n  Date: Monday 18 March\nTime: 1.00 - 5.00pm\n  Room 7\nVenue\nCatholic Education Office\n116 George Street\n THEBARTON SA 5031\n\n  Registration close: Monday\, 11 March 2013\n  Parking\n Parking is not available at the George Street worksite.\n Please refer to this map and park in:\n      * Queen of Angels Church carpark (off South Road)\n\n        * streets surrounding the CEO.\n\n\n  For registration enquiries please contact:\n  Simon Kelly\nCatholic Education Office\n Ph 8301 6190\nsimon.kelly@cesa.catholic.edu.au\n
DTSTAMP:20260424T160144Z
END:VEVENT
END:VCALENDAR
