BEGIN:VCALENDAR
VERSION:2.0
METHOD:PUBLISH
BEGIN:VEVENT
UID:WILD_APRICOT_EVENT_626550_SESSION_1
DTSTART:20130314T223000Z
DTEND:20130315T013000Z
SUMMARY:Australian Curriculum: History - History Performance Expectations and Indicators
LOCATION:Catholic Education Office Conference Centre Room 7
DESCRIPTION:https://registrationcentre.cesa.catholic.edu.au/event-626550\n\nAustralian Curriculum: History - History Performance Expectations and Indicators\n  History Performance Expectations and Indicators provides an introduction to the Learning Design and Assessment Tool\, R-10\, developed last year in conjunction with key teachers of History across the three bands of learning.\n  Date: Friday 15 March\nTime: 9.00am - 12.00pm\n\n  Room 7\nVenue\nCatholic Education Office\n116 George Street\n THEBARTON SA 5031\n\n  Registration close: Friday\, 8 March 2013\n  Parking\n Parking is not available at the George Street worksite.\n Please refer to this map and park in:\n      * Queen of Angels Church carpark (off South Road)\n\n        * streets surrounding the CEO.\n\n  For registration enquiries please contact:\n  Simon Kelly\nCatholic Education Office\n Ph 8301 6190\nsimon.kelly@cesa.catholic.edu.au\n
DTSTAMP:20260424T160547Z
END:VEVENT
END:VCALENDAR
