BEGIN:VCALENDAR
VERSION:2.0
METHOD:PUBLISH
BEGIN:VEVENT
UID:WILD_APRICOT_EVENT_626544_SESSION_1
DTSTART:20130219T013000Z
DTEND:20130219T063000Z
SUMMARY:Australian Curriculum: History - Unpacking Sources in the Secondary School
LOCATION:Catholic Education Office Conference Centre Room 6
DESCRIPTION:https://registrationcentre.cesa.catholic.edu.au/event-626544\n\nAustralian Curriculum: History -Unpacking Sources in the Secondary School\n  Unpacking Sources in the Secondary School\, is designed for Teachers in Years 7-10 who are new to History\, or those wishing a short refresher course on the concepts of sources and evidence and the skill of analysis and use of sources.\n  Workshop Cost\nSchools will be invoiced $10.00 per person\n Lunch will be provided\n  Date: Tuesday 19 February\nTime: 12.00 -5.00pm\n\n  Room 6\n  Venue\nCatholic Education Office\n116 George Street\n THEBARTON SA 5031\n\n  Parking\n Parking is not available at the George Street worksite.\n Please refer to this map and park in:\n      * Queen of Angels Church carpark (off South Road)\n\n        * streets surrounding the CEO.\n\n\n  For registration enquiries please contact:\n  Simon Kelly\nCatholic Education Office\n Ph 8301 6190\nsimon.kelly@cesa.catholic.edu.au\n
DTSTAMP:20260424T154131Z
END:VEVENT
END:VCALENDAR
