BEGIN:VCALENDAR
VERSION:2.0
METHOD:PUBLISH
BEGIN:VEVENT
UID:WILD_APRICOT_EVENT_626530_SESSION_1
DTSTART:20130318T223000Z
DTEND:20130319T043000Z
SUMMARY:Repeat Workshop Australian Curriculum: History - A Journey Forward (for Primary years 3-7)
LOCATION:Catholic Education Office Conference Centre Boardroom
DESCRIPTION:https://registrationcentre.cesa.catholic.edu.au/event-626530\n\nAustralian Curriculum: History - A Journey Forward\n  AC: History - A Journey Forward provides primary years teachers with:\n      * the context for the new History Curriculum\n\n        * a walk through the document\n\n        * approaches to planning and implementation\n\n        * the opportunity to begin planning at a year level of your choice\n\n  \n Registrants are asked to bring a copy of the Australian Curriculum: History Curriculum version 4.0 with them along with any existing planning documents for their year level of choice.\n\n  Workshop Cost\nSchools will be invoiced $10.00 per person\n  Date: Tuesday 19 March\nTime: 9.00am - 3.00pm\n\n  Boardroom\nVenue\nCatholic Education Office\n116 George Street\n THEBARTON SA 5031\n\n  Registration close: Tuesday\, 12 March 2013\n  Parking\n Parking is not available at the George Street worksite.\n Please refer to this map and park in:\n      * Queen of Angels Church carpark (off South Road)\n\n        * streets surrounding the CEO.\n\n\n  For registration enquiries please contact:\n  Simon Kelly\nCatholic Education Office\n Ph 8301 6190\nsimon.kelly@cesa.catholic.edu.au\n
DTSTAMP:20260424T153948Z
END:VEVENT
END:VCALENDAR
