BEGIN:VCALENDAR
VERSION:2.0
METHOD:PUBLISH
BEGIN:VEVENT
UID:WILD_APRICOT_EVENT_622013_SESSION_1
DTSTART:20130409T233000Z
DTEND:20130410T063000Z
SUMMARY:EAL - Language and Literacy Levels: Familiarisation Day
LOCATION:Catholic Education Conference Centre
DESCRIPTION:https://registrationcentre.cesa.catholic.edu.au/event-622013\n\nEAL\n  Language and Literacy Levels: Familiarisation Day\n  There are a maximum of 25  places available\n  Last Day to Register: Thursday 4th April 2013\n    This one day workshop is suitable for teachers who have prior training and experience in using the SACSA ESL Scope  Scales and a knowledge of functional grammar.\n  The workshop is suitable for primary and secondary teachers.\n  The workshop will provide an opportunity for:\n      * Guided exploration of the new Levels document\n\n        * Comparison of the main differences and similarities between the Scales and the Levels\n\n        * Using the Levels to assess written language\n\n  The main focus of this workshop will be on the organisation and use of the Levels\; there will be no explicit teaching of the metalanguage. For those who need to learn about the language within the Levels\, please register for the 2 day workshop: Assessment for Learning using the Language and Literacy Levels.\n  Teachers are asked to bring several student writing samples to assess during this workshop.\n  Workshop Dates:\n     Term 1: Wednesday 10th April 2013  (this workshop will be repeated in Term 2 - Wednesday 15th May 2013)\n  Cost: no workshop fee\n   \n  Catering: morning tea and lunch are provided\n  Venue: Catholic Education Conference Centre\n                116 George Street\, Thebarton - Room 8\n  Parking is not available on site. Please refer to the attached link.\n Catholic Education Conference Centre\n  Presenter: EAL Consultants\n   \n  For Further Information regarding registration:\nChris Virgin\n chris.virgin@cesa.catholic.edu.au\n8301 6851\n
DTSTAMP:20260424T153644Z
END:VEVENT
END:VCALENDAR
