BEGIN:VCALENDAR
VERSION:2.0
METHOD:PUBLISH
BEGIN:VEVENT
UID:WILD_APRICOT_EVENT_615499_SESSION_1
DTSTART:20130724T233000Z
DTEND:20130725T063000Z
SUMMARY:Australian Curriculum: English - Teaching Grammar and the Language Strand
LOCATION:CEO Conference Centre\, 116 George Street\, Thebarton SA 5031
DESCRIPTION:https://registrationcentre.cesa.catholic.edu.au/event-615499\n\nThis course comprises six sessions.\n  Whilst this is a new course to accompany the new Australian Curriculum\, much of the content of the course will draw from courses previously provided by the Literacy Team in Functional Grammar.\n  An outline of the course can be accessed at:\nCourse Outline\n  Please direct all course enquiries to Tony Hole at tony.hole@cesa.catholic.edu.au or telephone 83016646.\n  The sessions will be held in Term 3\, 2013 as follows:\n                            Day/Date\n                        Time\n                        Room\n                                  Thursday\,\n         25 July\n                        9 – 4\n(morning tea & lunch provided)\n                        6\n                                  Tuesday\,\n         30 July\n                        4 – 6\n                        7\n                                  Tuesday\,\n         6 August\n                        4 – 6\n                        6\n                                  Tuesday\,\n         20 August\n                        4 – 6\n                        6\n                                  Tuesday\,\n         3 September\n                        4 – 6\n                        6\n                                  Tuesday\,\n         17 September\n                        9 – 4\n(morning tea & lunch provided)\n                        8\n                      AITSL Standards for Teachers:\n  This Professional Learning course references the following AITSL Australian Professional Standards for Teachers:\n  Standard 2:  Know the content and how to teach it\n  Standard 3:  Plan for and implement effective teaching and learning\n  Standard 6:  Engage in professional learning \n  Duration:     20 hours\n   \n  Venue:\n Catholic Education Conference Centre \n 116 George Street\, Thebarton \n   \n  Parking:  \nIs NOT AVAILABLE at the George Street worksite.\n  Please refer to this map (pdf) and park in:\n      * Queen of Angels Church carpark (off South Road)\n\n        * streets surrounding the CEO\n\n  Registration: \n Closes Friday\, 12 July 2013\n   \n  For registration enquiries please contact\n  Elaine Mulhall\n Catholic Education Office\n Ph  8301 6694\n elaine.mulhall@cesa.catholic.edu.au\n   \n  Morning tea and lunch is provided at full day sessions.\n   \n   \n   \n  \n \n           \n
DTSTAMP:20260424T174201Z
END:VEVENT
END:VCALENDAR
