BEGIN:VCALENDAR
VERSION:2.0
METHOD:PUBLISH
BEGIN:VEVENT
UID:WILD_APRICOT_EVENT_567156_SESSION_1
DTSTART:20121101T220000Z
DTEND:20121102T050000Z
SUMMARY:Closing the Gap: Showcase & Professional Learning Session
LOCATION:Tauondi College\, 1 Lipson Street\, Port Adelaide
DESCRIPTION:https://registrationcentre.cesa.catholic.edu.au/event-567156\n\nParticipants: Closing the Gap project schools only\nPrincipals\, leadership teams along with Indigenous Education focus teachers\, National Partnerships key personnel and coaches\n  The final professional learning session for the 2012 Closing the Gap Program will be held on Friday 2 November at Tauondi College.\n  This session will feature a prominent guest speaker from Fire and Water consultancies\, Jonathan Lindsay-Tjapaltjarri Hermawan. Jonathan is a qualified educator and an inspirational presenter (biography PDF).\n    Date & Time\n Friday 2 November 2012\n 8:30am – 3:30pm\n  Morning tea and lunch provided\n    Venue\nTauondi College\n1 Lipson Street\n PORT ADELAIDE\n Please note\, there is no access to Tauondi College via Grand Junction Road.\n  If you have any queries regarding this program\, please contact Dr Roma Aloisi 8301 6892.\n  Registrations close Friday 26 October 2012\n  Registration enquiries:\nCarolyn Slater 8301 6645\n carolyn.slater@cesa.catholic.edu.au\n
DTSTAMP:20260424T153517Z
END:VEVENT
END:VCALENDAR
