BEGIN:VCALENDAR
VERSION:2.0
METHOD:PUBLISH
BEGIN:VEVENT
UID:WILD_APRICOT_EVENT_565606_SESSION_1
DTSTART:20121106T223000Z
DTEND:20121107T053000Z
SUMMARY:Indigenous Education Focus Teacher Workshop - Day 4:  Showcase of Inquiry Projects
LOCATION:Room 6\, Catholic Education Conference Centre\, 116 George St\, Thebarton
DESCRIPTION:https://registrationcentre.cesa.catholic.edu.au/event-565606\n\n        A number of our Focus Teachers will take centre stage as they share with us the successes and challenges they have experienced on their Inquiry Project journeys.\n       Special Guest Speaker: PROFESSOR LESTER-IRABINNA RIGNEY\n  We are privileged to have Professor Rigney\, Dean\, Indigenous Education\, University of Adelaide\, address us about the challenges and future directions of Aboriginal Education in the 21st Century\, to be followed by a Q and A session.\n      Singer/Songwriter: MS VONDA LAST\n      We are delighted that talented singer/songwriter\, Ms Vonda Last\, will engage us in an interactive musical workshop as a culmination of this year’s Focus Teacher Program. \n      \n        REGISTRATION DEADLINE:  26 OCTOBER 2012\n       \n
DTSTAMP:20260424T171626Z
END:VEVENT
END:VCALENDAR
