BEGIN:VCALENDAR
VERSION:2.0
METHOD:PUBLISH
BEGIN:VEVENT
UID:WILD_APRICOT_EVENT_555367_SESSION_1
DTSTART:20121011T223000Z
DTEND:20121012T030000Z
SUMMARY:Australian Curriculum: History – 4D History Workshop
LOCATION:Catholic Education Office Conference Centre Room 7
DESCRIPTION:https://registrationcentre.cesa.catholic.edu.au/event-555367\n\nThe 4D History Workshop has been designed with leaders of the Australian Curriculum: History curriculum in mind. It provides:\n      * a re-orientation to the curriculum document\n\n        * approaches to planning and implementation\n\n        * the opportunity to begin planning at a year level of your choice\n\n  Registrants are asked to bring a copy of the Australian Curriculum: History curriculum version 3.0 with them along with any existing planning documents for their year level of choice.\n  Friday 12 October 2012\n 9.00am  - 1.30pm\n  Room 7\n\n  Workshop Cost\nSchools will be invoiced $15.00 per person per workshop\n  Venue\nCatholic Education Office\n116 George Street\n THEBARTON SA 5031\n\n  Parking\n Parking is not available at the George Street worksite.\n Please refer to this map and park in:\n      * Queen of Angels Church carpark (off South Road)\n\n        * streets surrounding the CEO.\n\n\n  For registration enquiries please contact:\n  Simon Kelly\nCatholic Education Office\n Ph 8301 6190\nsimon.kelly@cesa.catholic.edu.au\n
DTSTAMP:20260424T185638Z
END:VEVENT
END:VCALENDAR
