BEGIN:VCALENDAR
VERSION:2.0
METHOD:PUBLISH
BEGIN:VEVENT
UID:WILD_APRICOT_EVENT_555366_SESSION_1
DTSTART:20121009T223000Z
DTEND:20121010T050000Z
SUMMARY:Australian Curriculum: History Workshop - A Handle on History
LOCATION:Catholic Education Office Conference Centre Room 8
DESCRIPTION:https://registrationcentre.cesa.catholic.edu.au/event-555366\n\nA Handle on History has been designed to introduce teachers new to history\, or those wishing a short refresher course\, to the Understandings and Skills as outlined in the curriculum.\n  \n Participants will engage with a variety of activities designed to acquaint them with the essence and nature of the seven understandings and five skills.\n  \n Participants will also be introduced to related resources to further edify their historical capability.\n  Wednesday 10 October 2012\n9.00am - 3.30pm\n  Room 8\n  \nWorkshop Cost\nSchool will be invoiced $15.00 per person per workshop\n  Venue\nCatholic Education Office\n116 George Street\n THEBARTON SA 5031\n\n  Parking\n Parking is not available at the George Street worksite.\n Please refer to this map and park in:\n      * Queen of Angels Church carpark (off South Road)\n\n        * streets surrounding the CEO.\n\n\n  For registration enquiries please contact:\n  Simon Kelly\nCatholic Education Office\n Ph 8301 6190\n  simon.kelly@cesa.catholic.edu.au\n
DTSTAMP:20260424T153624Z
END:VEVENT
END:VCALENDAR
