BEGIN:VCALENDAR
VERSION:2.0
METHOD:PUBLISH
BEGIN:VEVENT
UID:WILD_APRICOT_EVENT_534561_SESSION_1
DTSTART:20120919T233000Z
DTEND:20120920T060000Z
SUMMARY:Australian Curriculum: Performance Expectations and Indicators feedback session
LOCATION:Glenelg Golf Club
DESCRIPTION:https://registrationcentre.cesa.catholic.edu.au/event-534561\n\nRegistration is open only to the Expert Working Group participants who attended on 30th April and 1st May at Morphettville\n  Date\nThursday\, 20th September 2012\n  Timings\n8.30:  Registration and refreshments\n 9.00:  Session commences\n  Venue\nGlenelg Golf Club\n James Melrose Road\n Novar Gardens\n Parking can be accessed via Bonython Avenue at the rear of the clubhouse\n  Morning tea and lunch provided\n  Registrations close Thursday\, 13th September 2012\n  For registration enquiries please contact:\nElaine Mulhall\n Catholic Education Office\n Ph 8301 6694\n elaine.mulhall@cesa.catholic.edu.au\n
DTSTAMP:20260424T171939Z
END:VEVENT
END:VCALENDAR
