BEGIN:VCALENDAR
VERSION:2.0
METHOD:PUBLISH
BEGIN:VEVENT
UID:WILD_APRICOT_EVENT_521944_SESSION_1
DTSTART:20120808T233000Z
DTEND:20120810T060000Z
SUMMARY:Aboriginal Student Engagement and Wellbeing Conference 2012
LOCATION:Education Development Centre\, Milner Street\, Hindmarsh
DESCRIPTION:https://registrationcentre.cesa.catholic.edu.au/event-521944\n\nAboriginal Student Engagement and Wellbeing Conference 2012\n  CESA/AISSA cross-sector initiative\n  Conference Program (pdf)\n  This two-day conference will present a group of highly acclaimed and much sought after speakers from across Australia who will share their knowledge\, expertise\, methodologies\, strategies and research findings to assist teachers to maximise the engagement and outcomes of Aboriginal students across the Independent and Catholic sectors in South Australia.\n  Venue\nEducation Development Centre\nMilner Street\n Hindmarsh\n  Parking\n The Education Development Centre car park is located on Orsmond Street and runs adjacent to Milner Street.\n  Morning tea and lunch provided\n  Registrations close Friday 3 August 2012\n  For registration enquiries please contact\n  Carolyn Slater\n Catholic Education Office\n Ph 8301 6645\n carolyn.slater@cesa.catholic.edu.au\n
DTSTAMP:20260424T153506Z
END:VEVENT
END:VCALENDAR
