BEGIN:VCALENDAR
VERSION:2.0
METHOD:PUBLISH
BEGIN:VEVENT
UID:WILD_APRICOT_EVENT_500698_SESSION_1
DTSTART:20120807T233000Z
DTEND:20120808T060000Z
SUMMARY:Secondary English: using and evaluating performance indicators
LOCATION:CEO Conference Centre\, 116 George Street\, Thebarton SA 5031
DESCRIPTION:https://registrationcentre.cesa.catholic.edu.au/event-500698\n\nSecondary English: using and evaluating performance indicators workshop\n   \n  Purpose: Support the draft performance indicators for their usefulness in:\n      * learning design\n\n        * assessment for and of learning\n\n        * reporting\n\n  Process: Engage in discussion\, evaluation and social moderation of:\n      * evidence of learning using the draft CESA English Performance Indicators\n\n        * assessment tasks\n\n        * provide feedback addressing the principles outlined in the process.\n\n  Date: Wednesday 8 August 2012\n  Time: 9.00am – 3.30pm\n  Contact\nstephen.kelly@cesa.catholic.edu.au \n Phone 8301 6820\n  Venue:  Catholic Education Conference Centre \n\n  Catholic Education Office\n 116 George Street\n\n  THEBARTON SA 5031\n   \n  Parking is NOT AVAILABLE at the George Street worksite. Please refer to this map (pdf) and park in:\n      * Queen of Angels Church carpark (off South Road)\n\n        * streets surrounding the CEO.\n\n  Registrations close Friday 3 August 2012\n   \n  For registration enquiries please contact\n   \n  Carolyn Slater\n Catholic Education Office\n Ph  8301 6645\n  elaine.mulhall@cesa.catholic.edu.au\n   \n  Morning tea and lunch is provided.\n
DTSTAMP:20260424T153815Z
END:VEVENT
END:VCALENDAR
